{
 "currentVersion": 11.2,
 "cimVersion": "3.2.0",
 "serviceDescription": "",
 "mapName": "ApartheidWall",
 "description": "",
 "copyrightText": "",
 "supportsDynamicLayers": true,
 "layers": [
  {
   "id": 1,
   "name": "Apartheid Wall جدار الفصل",
   "parentLayerId": -1,
   "defaultVisibility": true,
   "subLayerIds": null,
   "minScale": 0,
   "maxScale": 0,
   "type": "Feature Layer",
   "geometryType": "esriGeometryPolyline",
   "supportsDynamicLegends": true
  }
 ],
 "tables": [],
 "spatialReference": {
  "wkid": 28191,
  "latestWkid": 28191,
  "xyTolerance": 0.001,
  "zTolerance": 0.001,
  "mTolerance": 0.001,
  "falseX": -4839400,
  "falseY": -13387400,
  "xyUnits": 10000,
  "falseZ": -100000,
  "zUnits": 10000,
  "falseM": -100000,
  "mUnits": 10000
 },
 "singleFusedMapCache": true,
 "tileInfo": {
  "rows": 256,
  "cols": 256,
  "dpi": 96,
  "format": "PNG",
  "compressionQuality": 0,
  "origin": {
   "x": -9831696.349903587,
   "y": 6616688.127449962
  },
  "spatialReference": {
   "wkid": 28191,
   "latestWkid": 28191,
   "xyTolerance": 0.001,
   "zTolerance": 0.001,
   "mTolerance": 0.001,
   "falseX": -4839400,
   "falseY": -13387400,
   "xyUnits": 10000,
   "falseZ": -100000,
   "zUnits": 10000,
   "falseM": -100000,
   "mUnits": 10000
  },
  "lods": [
   {
    "level": 0,
    "resolution": 78140.21800705927,
    "scale": 2.953331074282555E8
   },
   {
    "level": 1,
    "resolution": 39070.10900352964,
    "scale": 1.4766655371412775E8
   },
   {
    "level": 2,
    "resolution": 19535.05450176482,
    "scale": 7.383327685706387E7
   },
   {
    "level": 3,
    "resolution": 9767.52725088241,
    "scale": 3.691663842853194E7
   },
   {
    "level": 4,
    "resolution": 4883.763625441205,
    "scale": 1.845831921426597E7
   },
   {
    "level": 5,
    "resolution": 2441.8818127206023,
    "scale": 9229159.607132984
   },
   {
    "level": 6,
    "resolution": 1220.9409063603011,
    "scale": 4614579.803566492
   },
   {
    "level": 7,
    "resolution": 610.4704531801506,
    "scale": 2307289.901783246
   },
   {
    "level": 8,
    "resolution": 305.2352265900753,
    "scale": 1153644.950891623
   },
   {
    "level": 9,
    "resolution": 152.61761329503764,
    "scale": 576822.4754458115
   },
   {
    "level": 10,
    "resolution": 76.30880664751882,
    "scale": 288411.23772290576
   },
   {
    "level": 11,
    "resolution": 38.15440332375941,
    "scale": 144205.61886145288
   },
   {
    "level": 12,
    "resolution": 19.077201661879705,
    "scale": 72102.80943072644
   },
   {
    "level": 13,
    "resolution": 9.538600830939853,
    "scale": 36051.40471536322
   },
   {
    "level": 14,
    "resolution": 4.769300415469926,
    "scale": 18025.70235768161
   },
   {
    "level": 15,
    "resolution": 2.384650207734963,
    "scale": 9012.851178840805
   },
   {
    "level": 16,
    "resolution": 1.1923251038674816,
    "scale": 4506.4255894204025
   },
   {
    "level": 17,
    "resolution": 0.5961625519337408,
    "scale": 2253.2127947102013
   },
   {
    "level": 18,
    "resolution": 0.2980812759668704,
    "scale": 1126.6063973551006
   }
  ]
 },
 "storageInfo": {
  "storageFormat": "esriMapCacheStorageModeCompactV2",
  "packetSize": 128
 },
 "initialExtent": {
  "xmin": 116714.82238651502,
  "ymin": 76866.17266500051,
  "xmax": 224404.74041348445,
  "ymax": 224221.23843499963,
  "spatialReference": {
   "wkid": 28191,
   "latestWkid": 28191,
   "xyTolerance": 0.001,
   "zTolerance": 0.001,
   "mTolerance": 0.001,
   "falseX": -4839400,
   "falseY": -13387400,
   "xyUnits": 10000,
   "falseZ": -100000,
   "zUnits": 10000,
   "falseM": -100000,
   "mUnits": 10000
  }
 },
 "fullExtent": {
  "xmin": 138792.78679999989,
  "ymin": 83564.13020000048,
  "xmax": 202326.7759999996,
  "ymax": 217523.28089999966,
  "spatialReference": {
   "wkid": 28191,
   "latestWkid": 28191,
   "xyTolerance": 0.001,
   "zTolerance": 0.001,
   "mTolerance": 0.001,
   "falseX": -4839400,
   "falseY": -13387400,
   "xyUnits": 10000,
   "falseZ": -100000,
   "zUnits": 10000,
   "falseM": -100000,
   "mUnits": 10000
  }
 },
 "datesInUnknownTimezone": false,
 "minScale": 2307289.901783246,
 "maxScale": 1126.6063973551006,
 "minLOD": 7,
 "maxLOD": 18,
 "units": "esriMeters",
 "supportedImageFormatTypes": "PNG32,PNG24,PNG,JPG,DIB,TIFF,EMF,PS,PDF,GIF,SVG,SVGZ,BMP",
 "documentInfo": {
  "Title": "C:\\Users\\Administrator\\Documents\\ArcGIS\\Projects\\MyProject\\MyProject.aprx",
  "Author": "",
  "Comments": "",
  "Subject": "",
  "Category": "",
  "Version": "3.0.0",
  "AntialiasingMode": "Fast",
  "TextAntialiasingMode": "Force",
  "Keywords": "ApartheidWall"
 },
 "supportsQueryDomains": true,
 "capabilities": "Query,Map,Data",
 "supportedQueryFormats": "JSON, geoJSON, PBF",
 "exportTilesAllowed": false,
 "referenceScale": 0.0,
 "supportsDatumTransformation": true,
 "floorAwareMapProperties": {
  "defaultFloorFilterSettings": {
   "isEnabled": false
  }
 },
 "archivingInfo": {
  "supportsHistoricMoment": false
 },
 "supportsClipping": true,
 "supportsSpatialFilter": true,
 "supportsTimeRelation": true,
 "supportsQueryDataElements": true,
 "mapUnits": {
  "uwkid": 9001
 },
 "maxRecordCount": 2000,
 "maxImageHeight": 4096,
 "maxImageWidth": 4096,
 "supportedExtensions": "",
 "serviceItemId": "7fe4eee45c6a43f399581157bf425654"
}
