View In:
ArcGIS JavaScript
ArcGIS Online Map Viewer
ArcGIS Earth
ArcGIS Pro
Service Description:
Map Name: ApartheidWall
Legend
All Layers and Tables
Dynamic Legend
Dynamic All Layers
Layers:
Description:
Service Item Id: 7fe4eee45c6a43f399581157bf425654
Copyright Text:
Spatial Reference:
28191
(28191)
Single Fused Map Cache: true
Tile Info:
- Height: 256
- Width: 256
- DPI: 96
-
Levels of Detail: 19
-
Level ID: 0
[ Start Tile, End Tile ]
- Resolution: 78140.21800705927
- Scale: 2.953331074282555E8
-
Level ID: 1
[ Start Tile, End Tile ]
- Resolution: 39070.10900352964
- Scale: 1.4766655371412775E8
-
Level ID: 2
[ Start Tile, End Tile ]
- Resolution: 19535.05450176482
- Scale: 7.383327685706387E7
-
Level ID: 3
[ Start Tile, End Tile ]
- Resolution: 9767.52725088241
- Scale: 3.691663842853194E7
-
Level ID: 4
[ Start Tile, End Tile ]
- Resolution: 4883.763625441205
- Scale: 1.845831921426597E7
-
Level ID: 5
[ Start Tile, End Tile ]
- Resolution: 2441.8818127206023
- Scale: 9229159.607132984
-
Level ID: 6
[ Start Tile, End Tile ]
- Resolution: 1220.9409063603011
- Scale: 4614579.803566492
-
Level ID: 7
[ Start Tile, End Tile ]
- Resolution: 610.4704531801506
- Scale: 2307289.901783246
-
Level ID: 8
[ Start Tile, End Tile ]
- Resolution: 305.2352265900753
- Scale: 1153644.950891623
-
Level ID: 9
[ Start Tile, End Tile ]
- Resolution: 152.61761329503764
- Scale: 576822.4754458115
-
Level ID: 10
[ Start Tile, End Tile ]
- Resolution: 76.30880664751882
- Scale: 288411.23772290576
-
Level ID: 11
[ Start Tile, End Tile ]
- Resolution: 38.15440332375941
- Scale: 144205.61886145288
-
Level ID: 12
[ Start Tile, End Tile ]
- Resolution: 19.077201661879705
- Scale: 72102.80943072644
-
Level ID: 13
[ Start Tile, End Tile ]
- Resolution: 9.538600830939853
- Scale: 36051.40471536322
-
Level ID: 14
[ Start Tile, End Tile ]
- Resolution: 4.769300415469926
- Scale: 18025.70235768161
-
Level ID: 15
[ Start Tile, End Tile ]
- Resolution: 2.384650207734963
- Scale: 9012.851178840805
-
Level ID: 16
[ Start Tile, End Tile ]
- Resolution: 1.1923251038674816
- Scale: 4506.4255894204025
-
Level ID: 17
[ Start Tile, End Tile ]
- Resolution: 0.5961625519337408
- Scale: 2253.2127947102013
-
Level ID: 18
[ Start Tile, End Tile ]
- Resolution: 0.2980812759668704
- Scale: 1126.6063973551006
- Format: PNG
- Compression Quality: 0.0
- Origin: X: -9831696.349903587
Y: 6616688.127449962
- Spatial Reference: 28191
(28191)
Storage Info:
- Storage Format: esriMapCacheStorageModeCompactV2
- Packet Size: 128
Initial Extent:
XMin: 116714.82238651502
YMin: 76866.17266500051
XMax: 224404.74041348445
YMax: 224221.23843499963
Spatial Reference: 28191
(28191)
Full Extent:
XMin: 138792.78679999989
YMin: 83564.13020000048
XMax: 202326.7759999996
YMax: 217523.28089999966
Spatial Reference: 28191
(28191)
Units: esriMeters
Supported Image Format Types: PNG32,PNG24,PNG,JPG,DIB,TIFF,EMF,PS,PDF,GIF,SVG,SVGZ,BMP
Document Info:
Title: C:\Users\Administrator\Documents\ArcGIS\Projects\MyProject\MyProject.aprx
Author:
Comments:
Subject:
Category:
Keywords: ApartheidWall
AntialiasingMode: Fast
TextAntialiasingMode: Force
Supports Dynamic Layers: true
MaxRecordCount: 2000
MaxImageHeight: 4096
MaxImageWidth: 4096
Supported Query Formats: JSON, geoJSON, PBF
Supports Query Data Elements: true
Min Scale: 2307289.901783246
Max Scale: 1126.6063973551006
Min LOD: 7
Max LOD: 18
Supports Datum Transformation: true
Child Resources:
Info
Dynamic Layer
Supported Operations:
Export Map
Identify
QueryLegends
QueryDomains
Find
Return Updates